Workbook

Sheet info
A1: Global Enforcement in the Financial Industry (GEFI) - Swiss data - FINMA enforcement statistics globalenforcement.ch
A2: Data set | B2: Enforcement cases proactively communicated by FINMA media releases
A3: Period | B3: 2009- October 2026
A4: Version | B4: 46320
A5: Digital Object Identifier (DOI) | B5: DOI: tbd
A6: Website | B6: http://www.globalenforcement.org run by the Association "Global Enforcement in the Financial Industry and Capital Markets (GEFI)"
A7: Description | B7: This dataset provides data on the enforcement cases proactively communicated by FINMA in media releases including the names of the targets, the main topics and the measures imposed by FINMA
A8: Source (URL) | B8: FINMA media releases (https://www.finma.ch/en/media/press-releases/) FINMA case reports (https://www.finma.ch/en/documentation/enforcement-reporting/kasuistik/)

Sheet Communicated cases
C2: Enforcement cases proactively communicated by FINMA media releases | CC2: #VALUE!
B3: Table copyright: Association Global Enforcement in the Financial Industry and Capital Markets (GEFI) Table responsible: Urs Zulauf Status: October 2026
B4: Source: FINMA media releases
B5: Source: FINMA enforcement case reports
B6: Source: GEFI CH01e – FINMA enforcement cases (since 2009).xls
B7: Target name | C7: Target name disclosure | D7: Target type | E7: Target status | F7: 2026 | G7: 2025 | H7: 2024 | I7: 2023 | J7: 2022 | K7: 2021 | L7: 2020 | M7: 2019 | N7: 2018 | O7: 2017 | P7: 2016 | Q7: 2015 | R7: 2014 | S7: 2013 | T7: 2012 | U7: 2011 | V7: 2010 | W7: 2009 | X7: Total rulings with media releases | Y7: Average number of media releases of rulings per year | Z7: Date ruling info | AA7: Time gap ruling and info date (days) | AB7: Date proceeding info | AC7: Date investigation info | AD7: Ruling date | AE7: FINMA case ID | AF7: Detailled case outline | AG7: Main topic | AH7: Other Topics | AI7: Measure 1 | AJ7: Measure 2 | AK7: Measure 3 | AL7: Measure 4 | AM7: Measure 5 | AN7: FINMA teaser on ruling | AO7: Link ruling info | AP7: FINMA teaser on enforcement proceeding | AQ7: Link proceeding info | AR7: FINMA teaser on investigation | AS7: Link investigation info | AT7: Appeal | AU7: FAC decision / proceeding | AV7: FAC decision date | AW7: FSC decision | AX7: FSC decision date | AY7: Parallel foreign enforcement | AZ7: Parallel publication of foreign proceedings | BA7: Commentary
B8: R.P., G.S. | C8: yes | D8: Individuals | E8: Investor(s) in listed company | W8: 1 | X8: =SUM(F8:W8) -> 1 | Z8: 39839 | AA8: =Z8-AD8 -> 4 | AB8: n/a | AC8: n/a | AD8: 39835 | AE8: 2009-04 | AF8: no | AG8: Disclosure of qualified shareholding in listed company | AI8: Reprimand | AJ8: Reporting to criminal prosecutor | AN8: FINMA finds infringement of the obligation to disclose in the Sulzer case The Swiss Financial Market Supervisory Authority (FINMA) ruled on 22 January 2009 that Ronny Pecik sen. and Georg Stumpf, together acting in an organized group, infringed their disclosure obligations under Art. 20 of the Stock Exchange Act when building their stake in Sulzer AG towards the end of 2006 and beginning of 2007. FINMA will, as a result, file a criminal complaint with the Federal Department of Finances as required by law. | AO8: https://www.finma.ch/news/2009/01/mm-sulzer-20090126/ | AP8: n/a | AR8: n/a | AT8: yes | AU8: B-1215/2009 | AV8: 40491 | AW8: no | AX8: n/a | AY8: no | AZ8: no | BA8: Sulzer case, counted as 1 case under target Ronny Pecik and Georg Stumpf
B9: Zürcher Kantonalbank | C9: yes | D9: Legal entity | E9: Bank | W9: 1 | X9: =SUM(F9:W9) -> 1 | Z9: 39839 | AA9: =Z9-AD9 -> 4 | AB9: n/a | AC9: n/a | AD9: 39835 | AE9: 2009-05 | AF9: no | AG9: Controls and organisation (including inadquate risk management) | AH9: Disclosure of qualified shareholding in listed company | AI9: Reprimand | AN9: FINMA finds infringement of the obligation to disclose in the Sulzer case The Swiss Financial Market Supervisory Authority (FINMA) ruled on 22 January 2009 that Ronny Pecik sen. and Georg Stumpf, together acting in an organized group, infringed their disclosure obligations under Art. 20 of the Stock Exchange Act when building their stake in Sulzer AG towards the end of 2006 and beginning of 2007. FINMA will, as a result, file a criminal complaint with the Federal Department of Finances as required by law. | AO9: https://www.finma.ch/news/2009/01/mm-sulzer-20090126/ | AP9: n/a | AR9: n/a | AT9: no | AU9: n/a | AV9: n/a | AW9: n/a | AX9: n/a | AY9: no | AZ9: no | BA9: Reduction of bonus pool 2008
B10: UBS | C10: yes | D10: Legal entity | E10: Bank | W10: 1 | X10: =SUM(F10:W10) -> 1 | Z10: 39853 | AA10: =Z10-AD10 -> 6 | AB10: n/a | AC10: n/a | AD10: 39847 | AE10: n/a | AF10: yes | AG10: Prudential Rules | AI10: Correctif organisational measures | AN10: Severe reduction in variable compensation at UBS The Swiss Financial Market Supervisory Authority (FINMA), in its decision dated 3rd February 2009, allows UBS to distribute CHF 1.8 billion of variable remuneration for the year 2008. Besides the legally guaranteed payments, UBS shall be entitled to distribute discretionary payments. The reduction of the overall amount of the variable remuneration by UBS is massive in comparison to the international standards and to the past years. Besides the limitation of the variable remuneration relevant for the 2008 annual results, FINMA decided to limit the deferred components. The latter will be distributed over several years and shall be paid if very strict conditions are fulfilled. | AO10: https://www.finma.ch/en/news/2009/02/mm-ubs-variable-verguetungen-20090210/ | AP10: n/a | AR10: n/a | AT10: no | AU10: n/a | AV10: n/a | AW10: n/a | AX10: n/a | AY10: no | AZ10: no | BA10: US client tax case, appeal by affected clients of FINMA decision ordering transfer of client data do US authorities
B11: UBS | C11: yes | D11: Legal entity | E11: Bank | W11: 1 | X11: =SUM(F11:W11) -> 1 | Z11: 39862 | AA11: =Z11-AD11 -> 0 | AB11: n/a | AC11: n/a | AD11: 39862 | AE11: 2009-08 | AF11: yes | AG11: Controls and organisation (including inadquate risk management) | AI11: Reprimand | AJ11: Correctif organisational measures | AK11: Order to transfer client data | AN11: FINMA makes possible settlement between UBS and the US authorities and announces the results of its own investigation FINMA welcomes the settlement reached between UBS and the US authorities thereby avoiding the looming threat of formal criminal charges being filed against the bank in the USA. In order to avert the drastic consequences such charges would have for UBS and the stability of the Swiss financial system, FINMA has ordered that a limited quantity of client data be handed over to the US authorities immediately. FINMA is also publishing the results of the investigation carried out by the Swiss Federal Banking Commission (SFBC) in relation to this matter. The SFBC ruling reprimands UBS for a severe breach of certain provisions of the Swiss Banking Act by individual staff members and serious shortcomings in dealing with the legal risks associated with its business with US clients. | AO11: https://www.finma.ch/en/news/2009/02/mm-ubs-xborder-20090218/ | AP11: n/a | AR11: n/a | AT11: yes | AU11: B-1092/2009 | AV11: 40183 | AW11: 2C_127/2010 | AX11: 40739 | AY11: yes | AZ11: yes
B12: ACH Securities SA | C12: yes | D12: Legal entity | E12: Securities dealer | W12: 1 | X12: =SUM(F12:W12) -> 1 | Z12: 39868 | AA12: =Z12-AD12 -> 8 | AB12: n/a | AC12: n/a | AD12: 39860 | AE12: 2009-07 | AF12: no | AG12: Bankruptcy | AN12: FINMA announces opening of insolvency proceedings against ACH Securities SA of Geneva | AO12: https://www.finma.ch/en/news/2009/02/mm-ach-securities-sa-20090224/ | AP12: n/a | AR12: n/a | AT12: no | AU12: n/a | AV12: n/a | AW12: n/a | AX12: n/a | AY12: no | AZ12: no | BA12: False information to FINMA et.al.
B13: Bank Leumi (Schweiz AG) | C13: yes | D13: Legal entity | E13: Bank | W13: 1 | X13: =SUM(F13:W13) -> 1 | Z13: 40098 | AA13: =Z13-AD13 -> 84 | AB13: n/a | AC13: n/a | AD13: 40014 | AE13: 2009-26 | AF13: no | AG13: Fitness and properness | AH13: Controls and organisation (including inadquate risk management) | AI13: Reprimand | AJ13: Publication of ruling | AN13: FINMA issues a reprimand against Bank Leumi (Switzerland) AG based on the actions of its Geneva branch | AO13: https://www.finma.ch/en/news/2009/10/aktuell-bank-leumi-20091012/ | AP13: n/a | AR13: n/a | AT13: no | AU13: n/a | AV13: n/a | AW13: n/a | AX13: n/a | AY13: no | AZ13: no | BA13: Sulzer case, counted as 1 case under target Ronny Pecik and Georg Stumpf
B14: Deutsche Bank AG, Zurich branch | C14: yes | D14: Legal entity | E14: Bank | W14: 1 | X14: =SUM(F14:W14) -> 1 | Z14: 40120 | AA14: =Z14-AD14 -> 113 | AB14: n/a | AC14: n/a | AD14: 40007 | AE14: 2009-24 | AF14: no | AG14: Controls and organisation (including inadquate risk management) | AH14: Disclosure of qualified shareholding in listed company | AI14: Reprimand | AN14: FINMA closes investigation in Sulzer case The FINMA Circular on remuneration schemes is intended to have a lasting effect on remuneration practices in the financial sector. Remuneration schemes should not create incentives to take inappropriate risks and thereby potentially damage the stability of financial institutions. One of the focal points of the Circular is variable remuneration. In drawing up the Circular, FINMA has taken into account the results of the consultation process and international developments, in particular the latest standards issued by the Financial Stability Board. The Circular will take effect on 1 January 2010 | AO14: https://www.finma.ch/en/news/2009/11/mm-sulzer-20091103/ | AP14: n/a | AR14: n/a | AT14: no | AU14: n/a | AV14: n/a | AW14: n/a | AX14: n/a | AY14: no | AZ14: no
B15: Neue Zürcher Bank (NZB) | C15: yes | D15: Legal entity | E15: Bank | W15: 1 | X15: =SUM(F15:W15) -> 1 | Z15: 40120 | AA15: =Z15-AD15 -> 15 | AB15: n/a | AC15: n/a | AD15: 40105 | AE15: 2009-36 | AF15: no | AG15: Controls and organisation (including inadquate risk management) | AH15: Disclosure of qualified shareholding in listed company | AI15: Reprimand | AN15: FINMA closes investigation in Sulzer case The FINMA Circular on remuneration schemes is intended to have a lasting effect on remuneration practices in the financial sector. Remuneration schemes should not create incentives to take inappropriate risks and thereby potentially damage the stability of financial institutions. One of the focal points of the Circular is variable remuneration. In drawing up the Circular, FINMA has taken into account the results of the consultation process and international developments, in particular the latest standards issued by the Financial Stability Board. The Circular will take effect on 1 January 2010 | AO15: https://www.finma.ch/en/news/2009/11/mm-sulzer-20091103/ | AP15: n/a | AR15: n/a | AT15: no | AU15: n/a | AV15: n/a | AW15: n/a | AX15: n/a | AY15: no | AZ15: no | BA15: Trigger: Falciani data theft
B16: Credit Suisse | C16: yes | D16: Legal entity | E16: Bank | W16: 1 | X16: =SUM(F16:W16) -> 1 | Z16: 40163 | AA16: =Z16-AD16 -> 106 | AB16: n/a | AC16: n/a | AD16: Sept 2009 | AE16: n/a | AF16: yes | AG16: Controls and organisation (including inadquate risk management) | AI16: Reprimand | AN16: Settlement between Credit Suisse and U.S. authorities regarding breach of U.S. sanctions – clarifications by FINMA On 16 December 2009, Credit Suisse signed a settlement with various U.S. authorities regarding breaches of U.S. law. The settlement covers USD payments processed for persons from countries subject to U.S. economic sanctions. FINMA has followed this case closely from the outset. It has harshly reprimanded the Bank for its actions in light of Swiss supervisory law and has requested disciplinary measures | AO16: https://www.finma.ch/en/news/2009/12/mm-cs-usbehoerden-20091216/ | AP16: n/a | AR16: n/a | AT16: no | AU16: n/a | AV16: n/a | AW16: n/a | AX16: n/a | AY16: yes | AZ16: yes | BA16: Sia Abrasives
B17: Aston Bank | C17: yes | D17: Legal entity | E17: Bank | V17: 1 | X17: =SUM(F17:W17) -> 1 | Z17: 40184 | AA17: =Z17-AD17 -> 16 | AB17: n/a | AC17: n/a | AD17: 40168 | AE17: 2009-43 | AF17: no | AG17: Bankruptcy | AI17: Bankruptcy | AN17: FINMA launches liquidation proceedings at Aston Bank The Swiss Financial Market Supervisory Authority FINMA has withdrawn the banking licence and securities dealing licence of Aston Bank, Lugano. FINMA has determined that the bank had severe organisational failings and was overindebted. Liquidation proceedings have therefore been launched. Investors who hold privileged deposits are covered by the Deposit Protection Scheme. | AO17: https://www.finma.ch/en/news/2010/01/mm-aston-bank-20100106/ | AP17: n/a | AR17: n/a | AT17: no | AU17: n/a | AV17: n/a | AW17: n/a | AX17: n/a | AZ17: yes | BA17: Sia Abrasives
B18: HSBC Private Bank (CH) AG | C18: yes | D18: Legal entity | E18: Bank | U18: 1 | X18: =SUM(F18:W18) -> 1 | Z18: 40602 | AA18: =Z18-AD18 -> 10 | AB18: 40248 | AC18: n/a | AD18: 40592 | AE18: 2011-05 | AF18: no | AG18: Controls and organisation (including inadquate risk management) | AH18: Data protection | AI18: Reprimand | AN18: HSBC data theft: FINMA completes investigation Following a comprehensive investigation into the large-scale theft of data from HSBC Private Bank (Suisse) SA, FINMA has reprimanded the bank for deficiencies in its internal organisation and IT controls. FINMA has also called on the bank to see through the measures it has already initiated to comply with the legal requirements. FINMA will ensure that these measures are implemented promptly. | AO18: https://www.finma.ch/en/news/2011/02/mm-hsbc-20110228/ | AP18: FINMA is investigating the data stolen at HSBC | AQ18: https://www.finma.ch/en/news/2010/03/mm-hsbc-20100323/ | AR18: n/a | AT18: no | AU18: n/a | AV18: n/a | AW18: n/a | AX18: n/a | AY18: yes | AZ18: yes
B19: G.B. | C19: yes | D19: Individual(s) | E19: Investor(s) in listed company | U19: 1 | X19: =SUM(F19:W19) -> 1 | Z19: 40617 | AA19: =Z19-AD19 -> 1 | AB19: n/a | AC19: n/a | AD19: 40616 | AE19: 2011-10 | AF19: no | AG19: Disclosure of qualified shareholding in listed company | AI19: Reprimand | AJ19: Reporting to criminal prosecutor | AN19: FINMA closes investigation into sia Abrasives case The Swiss Financial Market Regulatory Authority FINMA has closed its investigation initiated in January 2009 into the sia Abrasives case. It ruled that Giorgio Behr breached his disclosure obligations under Article 20 of the Stock Exchange Act when building a stake in sia Abrasives. Bank am Bellevue actively aided him and, by doing so, breached its organisational duties and its duties to assure proper business conduct. FINMA filed a criminal complaint against Giorgio Behr with the Federal Department of Finance. | AO19: https://www.finma.ch/en/news/2011/03/mm-behr-bab-20110316/ | AP19: n/a | AR19: n/a | AT19: no | AU19: n/a | AV19: n/a | AW19: n/a | AX19: n/a | AY19: no | AZ19: no
B20: Bank am Bellevue | C20: yes | D20: Legal entity | E20: Bank | U20: 1 | X20: =SUM(F20:W20) -> 1 | Z20: 40617 | AA20: =Z20-AD20 -> 1 | AB20: n/a | AC20: n/a | AD20: 40616 | AE20: 2011-11 | AF20: no | AG20: Disclosure of qualified shareholding in listed company | AH20: Controls and organisation, fitness and properness | AI20: Reprimand | AN20: FINMA closes investigation into sia Abrasives case The Swiss Financial Market Regulatory Authority FINMA has closed its investigation initiated in January 2009 into the sia Abrasives case. It ruled that Giorgio Behr breached his disclosure obligations under Article 20 of the Stock Exchange Act when building a stake in sia Abrasives. Bank am Bellevue actively aided him and, by doing so, breached its organisational duties and its duties to assure proper business conduct. FINMA filed a criminal complaint against Giorgio Behr with the Federal Department of Finance. | AO20: https://www.finma.ch/en/news/2011/03/mm-behr-bab-20110316/ | AP20: n/a | AR20: n/a | AT20: yes | AU20: n/a | AV20: n/a | AW20: n/a | AX20: n/a | AY20: no | AZ20: no | BA20: Manipuation of price of own shares
B21: KPT and 4 members of BoD | C21: yes | D21: Legal entity | E21: Insurer (health) | T21: 1 | X21: =SUM(F21:W21) -> 1 | Z21: 40919 | AA21: =Z21-AD21 -> 5 | AB21: n/a | AC21: n/a | AD21: 40914 | AE21: 2012-02 | AF21: no | AG21: Governance | AI21: Reprimand | AN21: Sanctions in the KPT case In a ruling dated 6 January 2012, FINMA has concluded administrative proceedings against KPT Versicherungen AG (KPT) and three of its managers. It ruled that serious breaches of duty had taken place. These related in particular to the setting of the price for shares that were to be bought back as part of a planned merger in 2010, and to payments to directors under mandate agreements. In both cases, inadequate regard was paid to the rules on handling conflicts of interest. Based on these breaches of duty, FINMA has banned two former members of the board of directors from exercising a senior management function within the financial sector for four years and has ordered the disgorgement of their unjustified payments. FINMA has appointed Peter Eckert to take over the interim management of KPT at director level and to ensure for an orderly completion or new appointments to the board of directors. These measures do not threaten KPT's operational activities and the solvency provisions are met. | AO21: https://www.finma.ch/en/news/2012/01/mm-kpt-20120111/ | AP21: n/a | AR21: n/a | AT21: yes | AU21: B-19/2012 B-798/2012 | AV21: 41605 | AW21: n/a | AX21: n/a | AY21: no | AZ21: yes
B22: Valiant | C22: yes | D22: Legal entity | E22: Bank | T22: 1 | X22: =SUM(F22:W22) -> 1 | Z22: 41023 | AA22: =Z22-AD22 -> 4 | AB22: n/a | AC22: n/a | AD22: 41019 | AE22: 2012-11 | AF22: no | AG22: Market Abuse | AI22: Reprimand | AJ22: Correctif organisational measures | AN22: FINMA issues reprimand to Valiant over violation of market conduct rules With a decision dated 20 April 2012, the Swiss Financial Market Supervisory Authority FINMA has concluded administrative proceedings commenced in early 2011 against Valiant Holding AG and the former Valiant Privatbank AG (now Valiant Bank AG). Prior to a sharp fall in October 2010, Valiant propped up the price of its own registered shares against the general market trend and kept it artificially high. In doing so, it committed a serious violation of the supervisory provisions on market conduct, and infringed both its duty to ensure proper business conduct and its organisational requirements. FINMA therefore imposed special conditions on Valiant | AO22: https://www.finma.ch/en/news/2012/04/mm-valiant-20120425/ | AP22: n/a | AR22: n/a | AT22: no | AX22: n/a | AY22: no | AZ22: yes | BA22: Adoboli rogue trader
B23: UBS | C23: yes | D23: Legal entities | E23: Bank | T23: 1 | X23: =SUM(F23:W23) -> 1 | Z23: 41239 | AA23: =Z23-AD23 -> 5 | AB23: n/a | AC23: n/a | AD23: 41234 | AE23: 2012-33 | AF23: yes | AG23: Controls and organisation (including inadquate risk management) | AI23: Business restrictions | AJ23: Monitor | AN23: UBS trading losses in London: FINMA finds major control failures The proceedings launched by the Swiss Financial Market Supervisory Authority FINMA into UBS's trading losses in London have highlighted serious deficiencies in risk management and controls at UBS's Investment Bank. In FINMA's view, the fraudulent transactions executed by the rogue trader would have been detected sooner if these deficiencies had not existed. As soon as the unauthorised trading activities became known, FINMA imposed preventive measures to limit UBS's operational risks. Now that its proceedings have been completed, FINMA is appointing an independent third party to ensure that corrective measures are successfully implemented. | AO23: https://www.finma.ch/en/news/2012/11/mm-ubs-london-20121126/ | AP23: n/a | AR23: n/a | AT23: no | AX23: n/a | AY23: yes | AZ23: yes | BA23: LIBOR manipulation
B24: UBS | C24: yes | D24: Legal entity | E24: Bank | T24: 1 | X24: =SUM(F24:W24) -> 1 | Z24: 41262 | AA24: =Z24-AD24 -> 5 | AB24: n/a | AC24: n/a | AD24: 41257 | AE24: 2012-36 | AF24: yes | AG24: Market Abuse | AN24: LIBOR: FINMA concludes proceedings against UBS and orders disgorgement of profits The Swiss Financial Market Supervisory Authority has concluded its proceedings against UBS AG in connection with the submission of interest rates, particularly to the London Interbank Offered Rate (LIBOR). FINMA has established that UBS seriously violated Swiss financial market legislation and ordered measures to be taken to improve the processes involved. FINMA has also ordered UBS to disgorge CHF 59 million in profits to the Swiss Confederation. | AO24: https://www.finma.ch/en/news/2012/12/mm-ubs-libor-20121219/ | AP24: n/a | AR24: n/a | AT24: no | AX24: n/a | AY24: no | AZ24: yes | BA24: Manipuation of price of own shares
B25: Basler Kantonalbank | C25: yes | D25: Legal entity | E25: Bank | S25: 1 | X25: =SUM(F25:W25) -> 1 | Z25: 41599 | AA25: =Z25-AD25 -> 13 | AB25: n/a | AC25: n/a | AD25: 41586 | AE25: 2013-41 | AF25: no | AG25: Market Abuse | AH25: Controls and organisation, fitness and properness | AI25: Disgorgement of profits | AJ25: Business restrictions | AN25: FINMA reprimands Basler Kantonalbank for violating market conduct rules and orders disgorgement of profits Between 2009 and 2012, Basler Kantonalbank inadmissibly propped up the market price of its own participation certificates. This constituted a serious violation of supervisory provisions on market conduct and an infringement of its organisational requirements and duty to assure proper business conduct. FINMA is imposing special conditions on Basler Kantonalbank and is ordering the disgorgement of illegally generated profits amounting to CHF 2.64 million. FINMA recognises the measures that in the meantime have been taken by the Basler Kantonalbank. | AO25: https://www.finma.ch/en/news/2013/11/mm-bkb-marktverhaltensregeln-20131121/ | AP25: n/a | AR25: n/a | AT25: no | AX25: n/a | AY25: no | AZ25: no | BA25: Market manipulation
B26: PANICAlife | C26: yes | D26: Legal entity | E26: Insurer (life) | S26: 1 | X26: =SUM(F26:W26) -> 1 | Z26: 41626 | AA26: =Z26-AD26 -> 1 | AB26: n/a | AC26: n/a | AD26: 41625 | AE26: 2013-47 | AF26: no | AG26: Bankruptcy | AI26: Bankruptcy | AN26: FINMA opens bankruptcy proceedings against PANVICAlife PANVICAlife Genossenschaft was active in the life insurance business without the required licence from the Swiss Financial Market Supervisory Authority FINMA. As the company did not meet the conditions for subsequent authorisation and there is also a justified concern of over-indebtedness, FINMA has opened bankruptcy proceedings against PANVICAlife. In order to protect the insured persons, FINMA ordered that all assets be used to cover the insured persons' claims. (inofficial translation of German text) | AO26: https://www.finma.ch/de/news/2013/12/mm-konkurs-panvica-20131218/ | AP26: n/a | AR26: n/a | AT26: no | AX26: n/a | AY26: no | AZ26: no
B27: In Core Bank AG | C27: yes | D27: Legal entity | E27: Bank | S27: 1 | X27: =SUM(F27:W27) -> 1 | Z27: 41627 | AA27: =Z27-AD27 -> 6 | AB27: n/a | AC27: n/a | AD27: 41621 | AE27: 2013-46 | AF27: no | AG27: Market Abuse | AI27: Disgorgement of profits | AJ27: Business restrictions | AN27: FINMA orders Incore Bank to disgorge profits The proprietary trading desk at Incore Bank AG had inadmissibly influenced the market prices of securities in the bank's favour. This constituted a violation of market conduct rules and an infringement of organisational requirements and duty to assure proper business conduct. The Swiss Financial Market Supervisory Authority FINMA is imposing special conditions on the bank and is ordering the disgorgement of illegally generated profits amounting to CHF 3.5 million. Incore Bank has already taken organisational measures and has ceased entirely trading in its own equity securities | AO27: https://www.finma.ch/en/news/2013/12/mm-incore-bank-ag-20131219/ | AP27: n/a | AR27: n/a | AT27: no | AX27: n/a | AY27: no | AZ27: no | BA27: US Sanctions case
B28: Credit Suisse | C28: yes | D28: Legal entity | E28: Bank | T28: 1 | X28: =SUM(F28:W28) -> 1 | Z28: 41749 | AA28: =Z28-AD28 -> 576 | AB28: n/a | AC28: n/a | AD28: 41173 | AE28: 2012-26 | AF28: yes | AG28: Controls and organisation (including inadquate risk management) | AI28: Business restrictions | AJ28: Correctif organisational measures | AN28: FINMA publishes summary report on proceedings against Credit Suisse The Swiss Financial Market Supervisory Authority FINMA has published today a summary report on the enforcement proceedings it conducted against Credit Suisse between 2011 and 2012. The proceedings focused on the bank’s cross-border business with US clients during the period from 2000 to 2008. FINMA concluded that Credit Suisse had violated its duty to identify, limit and monitor the risks involved in the US client business. The corrective measures ordered by FINMA have been implemented by Credit Suisse. FINMA’s proceedings have been concluded and no further measures against Credit Suisse are to be expected. Today Credit Suisse has also announced agreements with the U.S. Department of Justice (DoJ), the Board of Governors of the Federal Reserve System and the New York State Department of Financial Services with respect to this matter. The agreement with the DoJ involves a guilty plea. Four important US authorities have thus concluded their investigations against Credit Suisse regarding its relationships with US clients. The bank has paid a total of USD 2.815 billion (CHF 2.510 billion). As in Switzerland, no further proceedings relating to the historical conduct of the cross border business for US clients covered by these settlements will be initiated concerning licenses of Credit Suisse either in the US or in the UK. | AO28: https://www.finma.ch/en/news/2014/05/mm-cs-20140520/ | AP28: n/a | AR28: n/a | AT28: no | AX28: n/a | AY28: yes | AZ28: yes
B29: BNP Paribas (Suisse) ASA | C29: yes | D29: Legal entity | E29: Bank | R29: 1 | X29: =SUM(F29:W29) -> 1 | Z29: 41821 | AA29: =Z29-AD29 -> 1 | AB29: n/a | AC29: n/a | AD29: 41820 | AE29: 2014-08 | AF29: yes | AG29: Controls and organisation (including inadquate risk management) | AI29: Capital charge | AJ29: Business restrictions | AN29: Inadequate risk management of US sanctions: FINMA closes proceedings against BNP Paribas (Suisse) The Swiss Financial Market Supervisory Authority FINMA conducted enforcement proceedings against BNP Paribas (Suisse) SA. The proceedings focused on the bank's compliance with US sanctions, especially those issued against Sudan. FINMA has concluded that in particular between 2002 and 2007 the bank persistently and seriously violated its duty to identify, limit and monitor the inherent risks, subsequently breaching supervisory provisions. FINMA has ordered additional capital requirements for operational risks and banned the bank from conducting business with companies and persons subject to EU and US sanctions. | AO29: https://www.finma.ch/en/news/2014/06/mm-abschluss-verfahren-bnp-paribas-suisse-20140701/ | AP29: n/a | AR29: n/a | AT29: no | AX29: n/a | AY29: yes | AZ29: yes | BA29: Manipuation of price of own shares
B30: KPT Board members | C30: no | D30: Individual(s) | E30: Board members of insurer | R30: 1 | X30: =SUM(F30:W30) -> 1 | Z30: 41838 | AA30: =Z30-AD30 -> 11 | AB30: 40919 | AC30: n/a | AD30: 41827 | AE30: 2014-11 | AF30: no | AG30: Fitness and properness | AI30: Discontinuation of proceedings | AN30: Proceedings concluded against two former members of the KPT Board of Directors The Swiss Financial Market Supervisory Authority FINMA has taken note of an agreement between KPT Versicherungen AG (KPT) and two former members of the KPT Board of Directors. KPT's claims under supervisory law have been settled. Taking into account the repayments and settlements that have been made, FINMA has concluded the proceedings which had earlier been overruled by the Federal Administrative Court. FINMA has imposed the costs of the proceedings upon the relevant parties. | AO30: https://www.finma.ch/en/news/2014/07/verfahrensabschlussgegenzweiehemaligeverwaltungsratsmitgliederderkpt/ | AP30: n/a | AR30: n/a | AT30: no | BA30: Manipuation of price of own shares
B31: Banque Privée Espirito Santo SA | C31: yes | D31: Legal entity | E31: Bank | R31: 1 | X31: =SUM(F31:W31) -> 1 | Z31: 41901 | AA31: =Z31-AD31 -> 2 | AB31: 41885 | AC31: n/a | AD31: 41899 | AE31: 2014-56 | AF31: no | AG31: Bankruptcy | AI31: Bankruptcy | AN31: FINMA initiates bankruptcy proceedings against Espirito Santo On 19 September 2014, the Swiss Financial Market Supervisory Authority FINMA initiated bankruptcy proceedings against Banque Privée Espírito Santo SA. FINMA found that the bank, which has been in voluntary liquidation since July 2014, was over-indebted. According to current estimates, the bank is in a position to rapidly and fully reimburse privileged deposits to its clients. | AO31: https://www.finma.ch/en/news/2014/09/mm-finma-eroeffnet-konkurs-gegen-espirito-santo-20140919/ | AP31: FINMA initiates proceedings against Espirito Santo The Swiss Financial Market Supervisory Authority FINMA initiated enforcement proceedings against Banque Privée Espírito Santo SA at the end of August 2014. The focus of the investigation is the distribution of securities and financial products of the Espirito Santo Group. | AQ31: https://www.finma.ch/en/news/2014/09/finmaer%C3%B6ffnetverfahrengegenespiritosanto/ | AR31: n/a | AT31: no | AX31: n/a | AY31: yes | AZ31: no | BA31: Announccement of enforcement against 11 individuals (see case FINMA media release of 17.12.2015
B32: Bank Coop | C32: yes | D32: Legal entity | E32: Individual(s) working for bank | R32: 1 | X32: =SUM(F32:W32) -> 1 | Z32: 41941 | AA32: =Z32-AD32 -> 5 | AB32: n/a | AC32: n/a | AD32: 41936 | AE32: 2014-27 | AF32: no | AG32: Market Abuse | AI32: Business restrictions | AN32: FINMA reprimands Coop Bank for market manipulation From 2009 to 2013, the Coop Bank manipulated the market price of its own bearer shares. Its actions constituted a serious violation of supervisory provisions on market manipulation and an infringement of its organisational and business conduct requirements. This conclusion has resulted from the enforcement proceedings conducted by the Swiss Financial Supervisory Authority FINMA. The supervisory authority has imposed special conditions on the Coop Bank and issued the former CEO with an order prohibiting him from acting in a management capacity at any supervised institution. FINMA recognises the measures that have since been taken by the bank. | AO32: https://www.finma.ch/en/news/2014/10/mm-bank-coop-20141029/ | AP32: n/a | AR32: n/a | AT32: no | AX32: n/a | AY32: no | AZ32: no
B33: Senior Manager Bank Coop | C33: no | D33: Individual(s) | E33: Individual(s) working for bank | R33: 1 | X33: =SUM(F33:W33) -> 1 | Z33: 41941 | AA33: =Z33-AD33 -> 5 | AB33: n/a | AC33: n/a | AD33: 41936 | AE33: 2014-28 | AF33: no | AG33: Market Abuse | AI33: Industry ban | AN33: FINMA reprimands Coop Bank for market manipulation From 2009 to 2013, the Coop Bank manipulated the market price of its own bearer shares. Its actions constituted a serious violation of supervisory provisions on market manipulation and an infringement of its organisational and business conduct requirements. This conclusion has resulted from the enforcement proceedings conducted by the Swiss Financial Supervisory Authority FINMA. The supervisory authority has imposed special conditions on the Coop Bank and issued the former CEO with an order prohibiting him from acting in a management capacity at any supervised institution. FINMA recognises the measures that have since been taken by the bank. | AO33: https://www.finma.ch/en/news/2014/10/mm-bank-coop-20141029/ | AP33: n/a | AR33: n/a | AT33: no | AX33: n/a | AY33: no | AZ33: no | BA33: FINMA publishes Q&A for clients
B34: UBS | C34: yes | D34: Legal entity | E34: Bank | R34: 1 | X34: =SUM(F34:W34) -> 1 | Z34: 41955 | AA34: =Z34-AD34 -> 5 | AB34: n/a | AC34: n/a | AD34: 41950 | AE34: 2014-29 | AF34: yes | AG34: Market Abuse | AI34: Disgorgement of profits | AJ34: Bonus limitation | AK34: Correctif organisational measures | AN34: FINMA sanctions foreign exchange manipulation at UBS The Swiss Financial Market Supervisory Authority FINMA has concluded enforcement proceedings against UBS AG (UBS) regarding foreign exchange trading conducted in Switzerland. FINMA found that over an extended period of time the bank's employees in Zurich at least attempted to manipulate foreign exchange benchmarks. In addition, employees acted against the interests of their clients. Risk management, controls and compliance in foreign exchange trading were insufficient. By breaching control requirements and owing to the misconduct of its employees, UBS severely violated the requirements for proper business conduct. Alongside the imposition of other corrective measures, FINMA has ordered UBS to disgorge a total of CHF 134m. It has also initiated enforcement proceedings against eleven persons involved in the case. | AO34: https://www.finma.ch/en/news/2014/11/mm-ubs-devisenhandel-20141112/ | AP34: n/a | AR34: n/a | AT34: no | AX34: n/a | AY34: yes | AZ34: yes | BA34: US client tax
B35: Zenith Vie SA | C35: yes | D35: Legal entity | E35: Insurer (life) | R35: 1 | X35: =SUM(F35:W35) -> 1 | Z35: 41988 | AA35: =Z35-AD35 -> 10 | AB35: n/a | AC35: n/a | AD35: 41978 | AE35: 2014-58 | AF35: yes | AG35: Bankruptcy | AI35: Bankruptcy | AJ35: Client portfolio transfer | AN35: Life insurer Zenith Life SA: FINMA orders portfolio transfer and initiates bankruptcy proceedings | AO35: https://www.finma.ch/en/news/2014/12/mm-zenith-20141215/ | AP35: n/a | AR35: n/a | AT35: yes | AU35: B-401/2015 | AV35: 42234 | AW35: no | AX35: n/a | AY35: no | AZ35: no | BA35: Health insurance, FINMA publishes Q&A for clients
B36: BSI | C36: yes | D36: Legal entity | E36: Bank | Q36: 1 | X36: =SUM(F36:W36) -> 1 | Z36: 42093 | AA36: =Z36-AD36 -> 56 | AB36: n/a | AC36: n/a | AD36: 42037 | AE36: 2015-01 | AF36: no | AG36: Controls and organisation (including inadquate risk management) | AI36: Reprimand | AN36: US client cross-border business: FINMA concludes proceedings against BSI SA As part of the program launched by the U.S. Department of Justice to settle the tax dispute between Swiss banks and the US, BSI SA is the first bank to announce today its conclusion of a non-prosecution agreement (NPA). In connection with the U.S. client cross-border business conducted by BSI SA, the Swiss Financial Market Supervisory Authority FINMA had initiated enforcement proceedings against the bank. FINMA concluded that the bank breached its obligations to identify, limit and monitor the risks involved in the US client business. | AO36: https://www.finma.ch/en/news/2015/03/mm-bsi-20150330/ | AP36: n/a | AR36: n/a | AT36: no | AX36: n/a | AY36: yes | AZ36: yes | BA36: Fx manipulation
B37: Groupe Mutuel | C37: yes | D37: Legal entity | E37: Insurer (health) | Q37: 1 | X37: =SUM(F37:W37) -> 1 | Z37: 42187 | AA37: =Z37-AD37 -> 6 | AB37: 41844 | AC37: n/a | AD37: 42181 | AE37: 2015-08 | AF37: no | AG37: Prudential Rules | AI37: Reimbursement to damaged parties | AJ37: Business restrictions | AK37: Bonus restricxtions | AN37: FINMA proceedings concluded: Groupe Mutuel in serious breach of supervisory law The Swiss Financial Market Supervisory Authority FINMA has concluded its enforcement proceedings against Groupe Mutuel. The wide-ranging investigation found that group companies active in the supplementary health insurance business had inadequate corporate governance standards and did not comply with the legal requirements for binding business plans. Groupe Mutuel was therefore in serious breach of supervisory law. Having already ordered Groupe Mutuel to correct unlawfully levied premiums and to make changes to the composition of its board in 2014, FINMA has now imposed an 18-month acquisition ban on the Group. FINMA acknowledges that the Group’s new management has already taken a number of measures. Throughout the enforcement proceedings, Groupe Mutuel displayed cooperation. | AO37: https://www.finma.ch/en/news/2015/07/mm-groupe-mutuel-2015-07-02/ | AP37: FINMA requires Groupe Mutuel to reimburse premiums The Swiss Financial Market Supervisory Authority FINMA has found that Groupe Mutuel used unauthorised premiums in the supplementary health insurance business. Multiple insurance contracts that employees had concluded with Groupe Mutuel via general agreements with their employers are affected. The ensuing premiums had either been overpriced or underpriced by Groupe Mutuel. FINMA subsequently requires immediate correction of the premiums and is currently conducting enforcement proceedings to investigate the matter. | AQ37: https://www.finma.ch/de/news/2014/07/finmaverlangtprämienrückzahlungenbeigroupemutuel/ | AR37: n/a | AT37: yes | AU37: B-5264/2015 | AV37: 42674 | AW37: B-5264/2015 | AX37: 42674 | AY37: no | AZ37: no | BA37: Fx manipulation
B38: Bank Hottinger | C38: yes | D38: Legal entity | E38: Bank | Q38: 1 | X38: =SUM(F38:W38) -> 1 | Z38: 42303 | AA38: no info | AB38: n/a | AC38: n/a | AD38: no info | AE38: no ID | AF38: no | AG38: Bankruptcy | AI38: Bankruptcy | AN38: FINMA initiates bankruptcy proceedings against Bank Hottinger The Swiss Financial Market Supervisory Authority FINMA initiated bankruptcy proceedings against Bank Hottinger & Cie Ltd on 26 October 2015. FINMA was obliged to take this measure as the bank is at risk of becoming overly indebted. The option of restructuring was thoroughly reviewed but ultimately proved unattainable. Current calculations indicate that privileged deposits can be fully refunded from the bank's available assets. | AO38: https://www.finma.ch/en/news/2015/10/20151016-mm-hottinger/ | AP38: n/a | AR38: n/a | AX38: n/a | AY38: no | AZ38: no | BA38: Fx manipulation
B39: UBS Fx dealer | C39: no | D39: Individual(s) | E39: Individual(s) working for bank | Q39: 1 | X39: =SUM(F39:W39) -> 1 | Z39: 42355 | AA39: =Z39-AD39 -> 6 | AB39: 41955 | AC39: n/a | AD39: 42349 | AE39: 2015-18 | AF39: no | AG39: Market Abuse | AI39: Industry ban | AN39: Foreign exchange manipulation: FINMA issues six industry bans The Swiss Financial Market Supervisory Authority FINMA has issued industry bans of between one and five years against six managers and traders formally employed in the UBS foreign exchange and precious metals business. FINMA concluded that the individuals in question were directly responsible for the serious breaches of regulation at UBS in this business, as communicated in 2014. Four other enforcement proceedings against UBS traders were discontinued in August 2015. | AO39: https://www.finma.ch/de/news/2015/12/20151217-mm-devisenhandel/ | AP39: FINMA sanctions foreign exchange manipulation at UBS The Swiss Financial Market Supervisory Authority FINMA has concluded enforcement proceedings against UBS AG (UBS) regarding foreign exchange trading conducted in Switzerland. FINMA found that over an extended period of time the bank's employees in Zurich at least attempted to manipulate foreign exchange benchmarks. In addition, employees acted against the interests of their clients. Risk management, controls and compliance in foreign exchange trading were insufficient. By breaching control requirements and owing to the misconduct of its employees, UBS severely violated the requirements for proper business conduct. Alongside the imposition of other corrective measures, FINMA has ordered UBS to disgorge a total of CHF 134m. It has also initiated enforcement proceedings against eleven persons involved in the case. | AR39: n/a | AT39: yes | AU39: B-688/2016 | AV39: 43262 | AW39: B-688/2016 | AX39: 43262 | AY39: yes | AZ39: no | BA39: Fx manipulation
B40: UBS Fx dealers | C40: no | D40: Individual(s) | E40: Individual(s) working for bank | Q40: 1 | X40: =SUM(F40:W40) -> 1 | Z40: 42355 | AA40: =Z40-AD40 -> 6 | AB40: 41955 | AC40: n/a | AD40: 42349 | AE40: 2015-19 | AF40: no | AG40: Market Abuse | AI40: Industry ban | AN40: Foreign exchange manipulation: FINMA issues six industry bans The Swiss Financial Market Supervisory Authority FINMA has issued industry bans of between one and five years against six managers and traders formally employed in the UBS foreign exchange and precious metals business. FINMA concluded that the individuals in question were directly responsible for the serious breaches of regulation at UBS in this business, as communicated in 2014. Four other enforcement proceedings against UBS traders were discontinued in August 2015. | AO40: https://www.finma.ch/de/news/2015/12/20151217-mm-devisenhandel/ | AP40: FINMA sanctions foreign exchange manipulation at UBS The Swiss Financial Market Supervisory Authority FINMA has concluded enforcement proceedings against UBS AG (UBS) regarding foreign exchange trading conducted in Switzerland. FINMA found that over an extended period of time the bank's employees in Zurich at least attempted to manipulate foreign exchange benchmarks. In addition, employees acted against the interests of their clients. Risk management, controls and compliance in foreign exchange trading were insufficient. By breaching control requirements and owing to the misconduct of its employees, UBS severely violated the requirements for proper business conduct. Alongside the imposition of other corrective measures, FINMA has ordered UBS to disgorge a total of CHF 134m. It has also initiated enforcement proceedings against eleven persons involved in the case. | AR40: n/a | AT40: yes | AU40: B-635/2016 | AV40: 43262 | AW40: B-635/2016 | AX40: 43262 | AY40: yes | AZ40: no
B41: UBS Fx dealers | C41: no | D41: Individual(s) | E41: Individual(s) working for bank | Q41: 1 | X41: =SUM(F41:W41) -> 1 | Z41: 42355 | AA41: =Z41-AD41 -> 6 | AB41: 41955 | AC41: n/a | AD41: 42349 | AE41: 2015-20 | AF41: no | AG41: Market Abuse | AI41: Industry ban | AN41: Foreign exchange manipulation: FINMA issues six industry bans The Swiss Financial Market Supervisory Authority FINMA has issued industry bans of between one and five years against six managers and traders formally employed in the UBS foreign exchange and precious metals business. FINMA concluded that the individuals in question were directly responsible for the serious breaches of regulation at UBS in this business, as communicated in 2014. Four other enforcement proceedings against UBS traders were discontinued in August 2015. | AO41: https://www.finma.ch/de/news/2015/12/20151217-mm-devisenhandel/ | AP41: FINMA sanctions foreign exchange manipulation at UBS The Swiss Financial Market Supervisory Authority FINMA has concluded enforcement proceedings against UBS AG (UBS) regarding foreign exchange trading conducted in Switzerland. FINMA found that over an extended period of time the bank's employees in Zurich at least attempted to manipulate foreign exchange benchmarks. In addition, employees acted against the interests of their clients. Risk management, controls and compliance in foreign exchange trading were insufficient. By breaching control requirements and owing to the misconduct of its employees, UBS severely violated the requirements for proper business conduct. Alongside the imposition of other corrective measures, FINMA has ordered UBS to disgorge a total of CHF 134m. It has also initiated enforcement proceedings against eleven persons involved in the case. | AR41: n/a | AT41: yes | AU41: B-686/2016 | AV41: 43262 | AW41: B-686/2016 | AX41: 43262 | AY41: yes | AZ41: no
...

Sheet codebook
A1: Global Enforcement in the Financial Industry (GEFI) - Swiss data - FINMA enforcement statistics globalenforcement.ch
A2: Data set | B2: Enforcement cases proactively communicated by FINMA media releases
A3: Column | B3: Column name | C3: Description | D3: Source
A4: B | B4: Target name | C4: Name of target person(s) if disclosed by FINMA. Names of individuals are not dislosed even when they are by FINMA | D4: FINMA | AE4: Comment
A5: C | B5: Target name disclosure | C5: Information on target name disclosure by FINMA (yes/no) | D5: GEFI
A6: D | B6: Target type | C6: Information on target type (legal entity/individual) | D6: GEFI
A7: E | B7: Target status | C7: Supervisory status of target | D7: GEFI
A8: F | B8: Rulings linked to media releases by year | C8: Data on number of rulings described by FINMA media releases by year. If a media release disclosed several targets or when it was referring to a previous communication in the same case it is considered to be a new case. There are cases on which FINMA informed in a consecutive year. In this case is reported in the year of the ruling, not in the year of the media release. | D8: GEFI
A9: G | D9: FINMA
A10: H | D10: FINMA
A11: I | D11: FINMA
A12: J
A13: K | D13: FINMA
A14: L | D14: FINMA
A15: M | D15: FINMA
A16: N | D16: FINMA
A17: 0 | D17: FINMA
A18: P | D18: FINMA
A19: Q | D19: FINMA
A20: R | D20: FINMA
A21: S | D21: FINMA
A22: T | D22: FINMA
A23: U | D23: FINMA
A24: V | D24: FINMA
A25: W | B25: Total rulings with media releases | C25: Total number of rulings on which FINMA informed in media releases, sometimes with considerable delay (see Column Z). Not counted cases where FINMA informed about opening of proceeding or investigations but not on ruling. Not included are rulings of FINMA's Takeover and State Liability Committee communicated by FINMA. Not counted are cases where FINMA only informed about the beginning of proceedings or investigations or about the closure of proceedings without ruling. | D25: GEFI
A26: X | B26: Average number of media releases of rulings per year | C26: Average number of media releases of rulings per year | D26: GEFI
A27: Y | B27: Date ruling info | C27: Date of the media release on the ruling. In some cases FINMA published the information on a ruling with a significant delay, i.e. not immediately after it was issued. There are various reasons for this (e.g. appeal by the company concerned against the information, waiting for the conclusion of parallel proceedings abroad, avoiding destabilization of the company, combining the info on individuals with info on proceeding against the firm). | D27: FINMA
A28: Z | B28: Time gap ruling and info date (days) | C28: Time gap in days between the date of the ruling and the date of the media release by FINMA | D28: GEFI
A29: AA | B29: Date proceeding info | C29: Date of the media release on the opening of a proceeding (if disclosed by FINMA in a media release) | D29: FINMA
A30: AB | B30: Date investigation info | C30: Date of the media release on the opening of an investigation (if disclosed by FINMA in a media release) | D30: FINMA
A31: AC | B31: Ruling date | C31: Date of the ruling if disclosed by FINMA in the media release or the case report | D31: FINMA
A32: AD | B32: FINMA case ID | C32: ID attributed by FINMA to the enforcement case in its case reports after 2014 as pdf report and on FINMA's website as case reports or only in the pdf reports. The IDs before 2013 have been attributed by GEFI based on data provided by FINMA. | D32: FINMA
A33: AE | B33: Detailled case outline | C33: Info on whether the FINMA published a detailled outline of the case as annex to the media release (yes/no) | D33: GEFI
A34: AF | B34: Main topic | C34: Main topic of case as defined by GEFI taxonomy | D34: GEFI
A35: AG | B35: Other Topics | C35: Other topic case as defined by GEFI taxonomy | D35: GEFI
A36: AH | B36: Measure 1 | C36: Measures imposed on target by FINMA ruling (if disclosed) defined by GEFI taxonomy | D36: FINMA / GEFI
A37: AI | B37: Measure 2
A38: AJ | B38: Measure 3
A39: AK | B39: Measure 4
A40: AL | B40: Measure 5
...

Sheet Percentage of rulings
B1: Global Enforcement in the Financial Industry (GEFI) - Swiss data - globalenforcement.ch
A2: Table copyright: Association Global Enforcement in the Financial Industry and Capital Markets (GEFI) Table responsible: Urs Zulauf Status: October 2026 | B2: Percentage of rulings proactively communicated by FINMA
B3: 2025 | C3: 2024 | D3: 2023 | E3: 2022 | F3: 2021 | G3: 2020 | H3: 2019 | I3: 2018 | J3: 2017 | K3: 2016 | L3: 2015 | M3: 2014 | N3: 2013 | O3: 2012 | P3: 2011 | Q3: 2010 | R3: 2009 | S3: Total
A4: Totel number of rulings reported in FINMA's enforcement reports (International cooperation and take over rulings excluded) Source: GEFI file: ch01 – FINMA enforcement cases (since 2009).xls | B4: 47 | C4: 34 | D4: 24 | E4: 29 | F4: 26 | G4: 24 | H4: 19 | I4: 27 | J4: 30 | K4: 29 | L4: 42 | M4: 49 | N4: 45 | O4: 39 | P4: 28 | Q4: 26 | R4: 37 | S4: =SUM(B4:R4) -> 555
A5: Total number of rulings proactively communicated by FINMA | B5: ='Communicated cases'!G98 -> 1 | C5: ='Communicated cases'!H98 -> 4 | D5: ='Communicated cases'!I98 -> 5 | E5: ='Communicated cases'!J98 -> 4 | F5: ='Communicated cases'!K98 -> 4 | G5: ='Communicated cases'!L98 -> 5 | H5: ='Communicated cases'!M98 -> 3 | I5: ='Communicated cases'!N98 -> 7 | ... R5: ='Communicated cases'!W98 -> 9 | S5: =SUM(B5:R5) -> 80
A6: Percentage of enforcement rulings proactively communicated by FINMA | B6: =B5/B4 -> 0.021276596 | C6: =C5/C4 -> 0.11764706 | D6: =D5/D4 -> 0.20833333 | E6: =E5/E4 -> 0.13793103 | F6: =F5/F4 -> 0.15384615 | G6: =G5/G4 -> 0.20833333 | H6: =H5/H4 -> 0.15789474 | I6: =I5/I4 -> 0.25925926 | ... S6: =S5/S4 -> 0.14414414
